BEGIN:VCALENDAR
VERSION:2.0
PRODID:-//3nity.com//3nity CMS//EN
BEGIN:VEVENT
SUMMARY:Franciscan Community of Reconciliation Meeting
UID:2026-07-18-1162508@www.saintjohnofgodparish.info
SEQUENCE:0
STATUS:CONFIRMED
DTSTART:20260506T191500
DTEND:20260506T201500
DTSTAMP:20161222T120000
DESCRIPTION:Members of FCR will meet via/Zoom
URL:http://www.saintjohnofgodparish.info
END:VEVENT
END:VCALENDAR
